BEGIN:VCALENDAR
VERSION:2.0
PRODID:-//Shirdi Sai Parivaar - ECPv6.15.17.1//NONSGML v1.0//EN
CALSCALE:GREGORIAN
METHOD:PUBLISH
X-ORIGINAL-URL:https://shirdisaiparivaar.org
X-WR-CALDESC:Events for Shirdi Sai Parivaar
REFRESH-INTERVAL;VALUE=DURATION:PT1H
X-Robots-Tag:noindex
X-PUBLISHED-TTL:PT1H
BEGIN:VTIMEZONE
TZID:America/Los_Angeles
BEGIN:DAYLIGHT
TZOFFSETFROM:-0800
TZOFFSETTO:-0700
TZNAME:PDT
DTSTART:20220313T100000
END:DAYLIGHT
BEGIN:STANDARD
TZOFFSETFROM:-0700
TZOFFSETTO:-0800
TZNAME:PST
DTSTART:20221106T090000
END:STANDARD
BEGIN:DAYLIGHT
TZOFFSETFROM:-0800
TZOFFSETTO:-0700
TZNAME:PDT
DTSTART:20230312T100000
END:DAYLIGHT
BEGIN:STANDARD
TZOFFSETFROM:-0700
TZOFFSETTO:-0800
TZNAME:PST
DTSTART:20231105T090000
END:STANDARD
BEGIN:DAYLIGHT
TZOFFSETFROM:-0800
TZOFFSETTO:-0700
TZNAME:PDT
DTSTART:20240310T100000
END:DAYLIGHT
BEGIN:STANDARD
TZOFFSETFROM:-0700
TZOFFSETTO:-0800
TZNAME:PST
DTSTART:20241103T090000
END:STANDARD
BEGIN:DAYLIGHT
TZOFFSETFROM:-0800
TZOFFSETTO:-0700
TZNAME:PDT
DTSTART:20250309T100000
END:DAYLIGHT
BEGIN:STANDARD
TZOFFSETFROM:-0700
TZOFFSETTO:-0800
TZNAME:PST
DTSTART:20251102T090000
END:STANDARD
END:VTIMEZONE
BEGIN:VEVENT
DTSTART;TZID=America/Los_Angeles:20230615T093000
DTEND;TZID=America/Los_Angeles:20241231T140000
DTSTAMP:20260421T012421
CREATED:20230124T092143Z
LAST-MODIFIED:20250306T052313Z
UID:23507-1686821400-1735653600@shirdisaiparivaar.org
SUMMARY:SSP - Special Program for Seniors
DESCRIPTION:Sairam Saibandhu’s\,\n\n\nWith Sainath’s bountiful blessings\, the fourteen week pilot of the Senior program was a huge success and very well received amongst our Saibandhus. Hence Shirdi Sai Parivaar is indefinitely continuing this long term SSP visionary program. \nThe program will be on  Every Thursday from 9:30 AM to 2:00 PM. The program is initially designed for 14 weeks and based on the participant’s engagement and feedback may be improved and extended on a permanent basis. \nThis Program has been designed to create a wholesome experience with activities specifically designed for seniors and also provide volunteering opportunities for willing seniors. Moreover\, an unlimited volunteering opportunity to all! \nThe agenda of the program will facilitate spiritual wellness and a social engagement with simple activities where seniors above 58 years\, will be able to participate and contribute. \n\n\n\n \n\n\n\nAgenda of the program is as follows: \n\n\n\n\n\n\n\n\n\nDay \n\n\n Every Thursday \n\n\n\n\nProgram \n\nSpecial Program for Seniors\n\n\n\n9:30 AM to 10:00 AM \n\n\nCheck in (Tea/Coffee/Snack provided) \n\n\n\n\n10:00 AM to 10:15 AM \n\n\nPrayer & Agenda Review \n\n\n\n\n10:15 AM to 11:00 AM \n\n\nBhajans/SaiMahima/Stavanmanjari/ Sai naamavali /Sai Amritvani learning \n\n\n\n\n11:00 AM to 12:00 Noon \n\n\nYoga by Dr. Sachin and Wellness talk \n\n\n\n\n12:00 Noon \n\n\nMadhyan Aarti \n\n\n\n\n12:30 PM to 1:00 PM \n\n\nLunch \n\n\n\n\n1:00 PM to 2:00 PM \n\n\nGames/Fun Activities/Crafts (Group Activity) \n\n\n\n\n\n\nProgram will be conducted by our dedicated volunteers\, professional wellness champions\, health heroes and social workers. \nLike every service at SSP\, this program is offered at FREE of cost for our seniors.  Your donations and volunteering time make this possible. \nWe invite and look forward to all our Saibandhus to come and register and take advantage of this unique program. \nYour feedback is important to us\, to design & enrich this program in the long run. Kindly share your thoughts & comments @Saibandhu@shirdisaiparivaar.org. \nPlease Sign up to be part of SSP – Special Program for Seniors.
URL:https://shirdisaiparivaar.org/event/ssp-special-program-for-seniors/
END:VEVENT
BEGIN:VEVENT
DTSTART;TZID=America/Los_Angeles:20241012T060000
DTEND;TZID=America/Los_Angeles:20241012T220000
DTSTAMP:20260421T012421
CREATED:20231012T052637Z
LAST-MODIFIED:20241007T163331Z
UID:24074-1728712800-1728770400@shirdisaiparivaar.org
SUMMARY:Mahasamadhi Commemorations & Vijaya Dasami 2024
DESCRIPTION:“Shirdi Sai Parivaar Commemorates Mahasamadhi on Saturday\, October 12th 2024”\nShirdi Sai Parivaar would like to invite all devotees to be part of this year’s Mahasamadhi 2024 Commemorations & Vijaya Dasami on 12th October 2024 and seek HIS blessings. \n\n  \nBOW TO SHRI SAI AND PEACE BE TO ALL
URL:https://shirdisaiparivaar.org/event/mahasamadhi-commemorations-vijaya-dasami-2024/
CATEGORIES:SSP Event
END:VEVENT
BEGIN:VEVENT
DTSTART;TZID=America/Los_Angeles:20241019T100000
DTEND;TZID=America/Los_Angeles:20241019T183000
DTSTAMP:20260421T012421
CREATED:20231026T060627Z
LAST-MODIFIED:20250617T193504Z
UID:24092-1729332000-1729362600@shirdisaiparivaar.org
SUMMARY:SSP MSD Cultural Event 2024
DESCRIPTION:Shirdi Sai Parivaar organizes several cultural events every year on its premises\, with the objective of promoting Indian classical performing arts and encouraging local schools\, teachers and artists\, especially children\, who learn or specialize in these art forms. \nShirdi Sai Parivaar is hosting MSD Cultural Event on Saturday\, October 19th\, 2024\, from 10:00 am – 06:30 P.M. 
URL:https://shirdisaiparivaar.org/event/msd-cultural-event-2024/
CATEGORIES:Community,Indian Classical Dance,Outreach,SSP Event
END:VEVENT
END:VCALENDAR