BEGIN:VCALENDAR
VERSION:2.0
PRODID:-//Shirdi Sai Parivaar - ECPv6.15.17.1//NONSGML v1.0//EN
CALSCALE:GREGORIAN
METHOD:PUBLISH
X-ORIGINAL-URL:https://shirdisaiparivaar.org
X-WR-CALDESC:Events for Shirdi Sai Parivaar
REFRESH-INTERVAL;VALUE=DURATION:PT1H
X-Robots-Tag:noindex
X-PUBLISHED-TTL:PT1H
BEGIN:VTIMEZONE
TZID:America/Los_Angeles
BEGIN:DAYLIGHT
TZOFFSETFROM:-0800
TZOFFSETTO:-0700
TZNAME:PDT
DTSTART:20220313T100000
END:DAYLIGHT
BEGIN:STANDARD
TZOFFSETFROM:-0700
TZOFFSETTO:-0800
TZNAME:PST
DTSTART:20221106T090000
END:STANDARD
BEGIN:DAYLIGHT
TZOFFSETFROM:-0800
TZOFFSETTO:-0700
TZNAME:PDT
DTSTART:20230312T100000
END:DAYLIGHT
BEGIN:STANDARD
TZOFFSETFROM:-0700
TZOFFSETTO:-0800
TZNAME:PST
DTSTART:20231105T090000
END:STANDARD
BEGIN:DAYLIGHT
TZOFFSETFROM:-0800
TZOFFSETTO:-0700
TZNAME:PDT
DTSTART:20240310T100000
END:DAYLIGHT
BEGIN:STANDARD
TZOFFSETFROM:-0700
TZOFFSETTO:-0800
TZNAME:PST
DTSTART:20241103T090000
END:STANDARD
BEGIN:DAYLIGHT
TZOFFSETFROM:-0800
TZOFFSETTO:-0700
TZNAME:PDT
DTSTART:20250309T100000
END:DAYLIGHT
BEGIN:STANDARD
TZOFFSETFROM:-0700
TZOFFSETTO:-0800
TZNAME:PST
DTSTART:20251102T090000
END:STANDARD
END:VTIMEZONE
BEGIN:VEVENT
DTSTART;TZID=America/Los_Angeles:20230615T093000
DTEND;TZID=America/Los_Angeles:20241231T140000
DTSTAMP:20260420T222715
CREATED:20230124T092143Z
LAST-MODIFIED:20250306T052313Z
UID:23507-1686821400-1735653600@shirdisaiparivaar.org
SUMMARY:SSP - Special Program for Seniors
DESCRIPTION:Sairam Saibandhu’s\,\n\n\nWith Sainath’s bountiful blessings\, the fourteen week pilot of the Senior program was a huge success and very well received amongst our Saibandhus. Hence Shirdi Sai Parivaar is indefinitely continuing this long term SSP visionary program. \nThe program will be on  Every Thursday from 9:30 AM to 2:00 PM. The program is initially designed for 14 weeks and based on the participant’s engagement and feedback may be improved and extended on a permanent basis. \nThis Program has been designed to create a wholesome experience with activities specifically designed for seniors and also provide volunteering opportunities for willing seniors. Moreover\, an unlimited volunteering opportunity to all! \nThe agenda of the program will facilitate spiritual wellness and a social engagement with simple activities where seniors above 58 years\, will be able to participate and contribute. \n\n\n\n \n\n\n\nAgenda of the program is as follows: \n\n\n\n\n\n\n\n\n\nDay \n\n\n Every Thursday \n\n\n\n\nProgram \n\nSpecial Program for Seniors\n\n\n\n9:30 AM to 10:00 AM \n\n\nCheck in (Tea/Coffee/Snack provided) \n\n\n\n\n10:00 AM to 10:15 AM \n\n\nPrayer & Agenda Review \n\n\n\n\n10:15 AM to 11:00 AM \n\n\nBhajans/SaiMahima/Stavanmanjari/ Sai naamavali /Sai Amritvani learning \n\n\n\n\n11:00 AM to 12:00 Noon \n\n\nYoga by Dr. Sachin and Wellness talk \n\n\n\n\n12:00 Noon \n\n\nMadhyan Aarti \n\n\n\n\n12:30 PM to 1:00 PM \n\n\nLunch \n\n\n\n\n1:00 PM to 2:00 PM \n\n\nGames/Fun Activities/Crafts (Group Activity) \n\n\n\n\n\n\nProgram will be conducted by our dedicated volunteers\, professional wellness champions\, health heroes and social workers. \nLike every service at SSP\, this program is offered at FREE of cost for our seniors.  Your donations and volunteering time make this possible. \nWe invite and look forward to all our Saibandhus to come and register and take advantage of this unique program. \nYour feedback is important to us\, to design & enrich this program in the long run. Kindly share your thoughts & comments @Saibandhu@shirdisaiparivaar.org. \nPlease Sign up to be part of SSP – Special Program for Seniors.
URL:https://shirdisaiparivaar.org/event/ssp-special-program-for-seniors/
END:VEVENT
BEGIN:VEVENT
DTSTART;TZID=America/Los_Angeles:20240810T083000
DTEND;TZID=America/Los_Angeles:20240810T153000
DTSTAMP:20260420T222715
CREATED:20240730T045345Z
LAST-MODIFIED:20240730T053135Z
UID:24481-1723278600-1723303800@shirdisaiparivaar.org
SUMMARY:SSP Annual Health Fair 2024
DESCRIPTION:“The Fakir (Sai Baba) here is very kind and He will cure the disease\, and protect all with love and kindness” – Sai Satcharitra\n \n\nSaiRam Saibandhus\,\n\nWith Baba’s grace Shirdi Sai Parivaar will be hosting the Annual SSP  Health Fair on  Saturday\, Aug 10th\, 2024 from 8:30 AM to 3:00 PM . We have  Cardiologists\,  Internal & Family Medicine Doctors\, Gynecologist\, Pediatrician\, Endocrinology\, Nephrology\, Blood & Cholesterol testing\, EKG  and all the services are free of charge. We request our Saibandhus to come and avail these services for better health and wellness.\n\n\nEven though Walk-ins are welcome\, we request you to take a few minutes to pre register using the link below so that we can plan the scheduling with various doctors. “\n\n\n\nRegistration link:   click here\n  \nBOW TO SHRI SAI AND PEACE BE TO ALL
URL:https://shirdisaiparivaar.org/event/ssp-annual-health-fair-2024/
CATEGORIES:Community,SSP Event
END:VEVENT
BEGIN:VEVENT
DTSTART;TZID=America/Los_Angeles:20240831T093000
DTEND;TZID=America/Los_Angeles:20240831T180000
DTSTAMP:20260420T222715
CREATED:20240819T004651Z
LAST-MODIFIED:20240830T233943Z
UID:24537-1725096600-1725127200@shirdisaiparivaar.org
SUMMARY:Shri Ganesha Clay Molding Workshop Aug 2024
DESCRIPTION:With Baba’s grace\, the Charity Team has scheduled a Ganesh Idol workshop on-site for August 31\, 2024. Based on the overwhelming response and sign-ups in 2023\, we have decided to conduct three sessions. Shanti and Navya\, who have previously conducted several workshops at SSP\, will be leading this workshop along with SSP volunteers. \n\nSession 1: 9:30 am – 11:30 am (FULL – No more registrations)\nSession 2: 1:00 pm – 3:00 pm (FULL – No more registrations)\nSession 3: 4:00 pm – 6:00 pm (FULL – No more registrations)\n\nWorkshop for kids to make Lord Ganesha idol using clay. Instructor will help in every step of the way for making Lord Ganesha idol. As a tradition\, idols of Lord Ganesh are worshiped and are immersed in lakes\, rivers or wells. \nIdol making is an art that is passed on from generation to generation. Idols made with natural ingredients are preferred over the painted ones as they are made with artificial clay. Using natural ingredients is also better for the environment. \nIn continuing with our tradition\, Shirdi Sai Parivaar will host “Shri Ganesh Idol Making Workshop” on Saturday\, August 31st 2024 \nSignup for this Workshop Below \nImportant Note: The event will start on time at 9:30 AM. \nPlease join 15 mins early. \nDate:  Saturday\, August 31st 2024 \nSession 1 : 9.30 AM – 11:30 AM. –  (FULL – No more registrations) \nSession 2 : 1.00 PM – 3:00 PM. –  (FULL – No more registrations) \nSession 3 : 4.00 PM – 6:00 PM. –  (FULL – No more registrations) \n  \nInstructions for participation: The Children above 6 years are welcome to join the workshop to create their own Lord Ganesh idol with natural clay. Instructor and volunteers will help with each step of the activity.  Please use our website (www.shirdisaiparivaar.org) to register for the event. The event will start on time; it will be difficult to catch up if you are late. Parent will be allowed to sit with kids 10yrs and younger.
URL:https://shirdisaiparivaar.org/event/shri-ganesha-clay-molding-workshop-aug-2024/
CATEGORIES:Community,SSP Event
END:VEVENT
END:VCALENDAR