BEGIN:VCALENDAR
VERSION:2.0
PRODID:-//Shirdi Sai Parivaar - ECPv6.15.17.1//NONSGML v1.0//EN
CALSCALE:GREGORIAN
METHOD:PUBLISH
X-ORIGINAL-URL:https://shirdisaiparivaar.org
X-WR-CALDESC:Events for Shirdi Sai Parivaar
REFRESH-INTERVAL;VALUE=DURATION:PT1H
X-Robots-Tag:noindex
X-PUBLISHED-TTL:PT1H
BEGIN:VTIMEZONE
TZID:America/Los_Angeles
BEGIN:DAYLIGHT
TZOFFSETFROM:-0800
TZOFFSETTO:-0700
TZNAME:PDT
DTSTART:20220313T100000
END:DAYLIGHT
BEGIN:STANDARD
TZOFFSETFROM:-0700
TZOFFSETTO:-0800
TZNAME:PST
DTSTART:20221106T090000
END:STANDARD
BEGIN:DAYLIGHT
TZOFFSETFROM:-0800
TZOFFSETTO:-0700
TZNAME:PDT
DTSTART:20230312T100000
END:DAYLIGHT
BEGIN:STANDARD
TZOFFSETFROM:-0700
TZOFFSETTO:-0800
TZNAME:PST
DTSTART:20231105T090000
END:STANDARD
BEGIN:DAYLIGHT
TZOFFSETFROM:-0800
TZOFFSETTO:-0700
TZNAME:PDT
DTSTART:20240310T100000
END:DAYLIGHT
BEGIN:STANDARD
TZOFFSETFROM:-0700
TZOFFSETTO:-0800
TZNAME:PST
DTSTART:20241103T090000
END:STANDARD
BEGIN:DAYLIGHT
TZOFFSETFROM:-0800
TZOFFSETTO:-0700
TZNAME:PDT
DTSTART:20250309T100000
END:DAYLIGHT
BEGIN:STANDARD
TZOFFSETFROM:-0700
TZOFFSETTO:-0800
TZNAME:PST
DTSTART:20251102T090000
END:STANDARD
END:VTIMEZONE
BEGIN:VEVENT
DTSTART;TZID=America/Los_Angeles:20230615T093000
DTEND;TZID=America/Los_Angeles:20241231T140000
DTSTAMP:20260420T210548
CREATED:20230124T092143Z
LAST-MODIFIED:20250306T052313Z
UID:23507-1686821400-1735653600@shirdisaiparivaar.org
SUMMARY:SSP - Special Program for Seniors
DESCRIPTION:Sairam Saibandhu’s\,\n\n\nWith Sainath’s bountiful blessings\, the fourteen week pilot of the Senior program was a huge success and very well received amongst our Saibandhus. Hence Shirdi Sai Parivaar is indefinitely continuing this long term SSP visionary program. \nThe program will be on  Every Thursday from 9:30 AM to 2:00 PM. The program is initially designed for 14 weeks and based on the participant’s engagement and feedback may be improved and extended on a permanent basis. \nThis Program has been designed to create a wholesome experience with activities specifically designed for seniors and also provide volunteering opportunities for willing seniors. Moreover\, an unlimited volunteering opportunity to all! \nThe agenda of the program will facilitate spiritual wellness and a social engagement with simple activities where seniors above 58 years\, will be able to participate and contribute. \n\n\n\n \n\n\n\nAgenda of the program is as follows: \n\n\n\n\n\n\n\n\n\nDay \n\n\n Every Thursday \n\n\n\n\nProgram \n\nSpecial Program for Seniors\n\n\n\n9:30 AM to 10:00 AM \n\n\nCheck in (Tea/Coffee/Snack provided) \n\n\n\n\n10:00 AM to 10:15 AM \n\n\nPrayer & Agenda Review \n\n\n\n\n10:15 AM to 11:00 AM \n\n\nBhajans/SaiMahima/Stavanmanjari/ Sai naamavali /Sai Amritvani learning \n\n\n\n\n11:00 AM to 12:00 Noon \n\n\nYoga by Dr. Sachin and Wellness talk \n\n\n\n\n12:00 Noon \n\n\nMadhyan Aarti \n\n\n\n\n12:30 PM to 1:00 PM \n\n\nLunch \n\n\n\n\n1:00 PM to 2:00 PM \n\n\nGames/Fun Activities/Crafts (Group Activity) \n\n\n\n\n\n\nProgram will be conducted by our dedicated volunteers\, professional wellness champions\, health heroes and social workers. \nLike every service at SSP\, this program is offered at FREE of cost for our seniors.  Your donations and volunteering time make this possible. \nWe invite and look forward to all our Saibandhus to come and register and take advantage of this unique program. \nYour feedback is important to us\, to design & enrich this program in the long run. Kindly share your thoughts & comments @Saibandhu@shirdisaiparivaar.org. \nPlease Sign up to be part of SSP – Special Program for Seniors.
URL:https://shirdisaiparivaar.org/event/ssp-special-program-for-seniors/
END:VEVENT
BEGIN:VEVENT
DTSTART;TZID=America/Los_Angeles:20240720T060000
DTEND;TZID=America/Los_Angeles:20240721T210000
DTSTAMP:20260420T210548
CREATED:20240701T172144Z
LAST-MODIFIED:20240718T230001Z
UID:24422-1721455200-1721595600@shirdisaiparivaar.org
SUMMARY:SSP Guru Poornima Celebrations 2024
DESCRIPTION:Shirdi Sai Parivaar would like to invite all Saibandhus to participate in a variety of religious and spiritual activities onsite and virtually via live stream as part of SSP Guru Purnima Celebrations on 20th and 21st July 2024.\nPlease sign up for various Activities using links provided below to sing Baba’s glory as part of Guru Purnima Celebrations. \n \n\n\n\n\n	DateTimeActivity\n\n\n\n\n	Sat July 206:15 AM - 8:00 AMKakad Arati\n\n\n	Sat July 208:00 AM - 10:30 AMGuru Paduka Stotram\, Sri Vishnusahasranaman\, Sri Rudram\, Hanuman Chalisa\n\n\n	Sat July 2010:30AM - 11:00 AMSri Sai Ashtottara Namavali\n\n\n\n	Sat July 2011:00 AM  - 11:55 AMSai Amritvani\n\n\n	Sat July 2012:00 PM - 12:30 PMMadhyanh Arati\n\n\n	Sat July 201:00 PM - 2:00 PMSai Satcharita Parayan\n\n\n	Sat July 202:00PM - 4:00 PMUtsav Baba Abhishekam\n\n\n	Sat July 202:00 PM - 2:15 PMSai Mahima\n\n\n	Sat July 202:15 PM - 3:30 PMKids Bhajans (Sign-up below)\n\n\n	Sat July 203:30 PM - 4: 30 PMSri Sainath Stavana Manjari\n\n\n	Sat July 204:30 PM - 6:25 PMSai Satyavrata Pooja \n (Note: Please check-in for Shri Sai Satyavrata Pooja at 4pm)\n\n\n	Sat July 206:30 PM - 6:55 PMDhoop Arati\n\n\n	Sat July 207:00 PM - 7:30 PMPalaki Seva\n\n\n	Sat July 207:30 PM - 8:55 PMBhajans by Shirdi Sai Parivaar\n\n\n	Sat July 209:00 PM - 9:20 PM*Shej Arati\n\n\n	Sun July 219:00 AM - 3:00 PMGuru Charitra Parayan\n\n\n	Sun July 213:15 PM - 4:15 PMGuru Pathache Abhang\n\n\n\n\nSign up for following Onsite Activities.\n1. Guru Charitra Parayan – July 21st\n2. Shri Sai Satyavrata Puja – July 20th  (Note: Please check-in for Shri Sai Satyavrata Pooja at 4pm) \n\n                \n                        \n                            Kids Bhajans Practice Sign-ups for SSP Guru Purnima Celebrations 2025\n                             \n                        \n                        Child Name*\n                            \n                            \n                                                    \n                                                    First\n                                                \n                            \n                            \n                                                    \n                                                    Last\n                                                \n                            \n                        Parent's Email-id*\n                            \n                        Parent's Phone Number*Word VerificationPhoneThis field is for validation purposes and should be left unchanged.\n           Save and Continue Later\n            \n            \n            \n                             \n            \n            \n            \n            \n            \n            \n        \n                        Δ \n                        \n\nBOW TO SHRI SAI AND PEACE BE TO ALL
URL:https://shirdisaiparivaar.org/event/ssp-guru-poornima-celebrations-2024/
END:VEVENT
BEGIN:VEVENT
DTSTART;TZID=America/Los_Angeles:20240727T140000
DTEND;TZID=America/Los_Angeles:20240727T183000
DTSTAMP:20260420T210548
CREATED:20240721T183017Z
LAST-MODIFIED:20240726T203151Z
UID:24449-1722088800-1722105000@shirdisaiparivaar.org
SUMMARY:SSP 20 years founding Anniversary Special Cultural Event - July 27th\, 2024
DESCRIPTION:By Baba’s grace SSP will be celebrating the Guru Poornima Cultural Event on Saturday July 27. The event will be in the MR Room from 2:00 pm onwards.\n\nAs part of the event\, as usual\, we are inviting the Bay Area Indian (Carnatic & Hindustani) Dance and Music Schools to perform for 20 min slots each.  The number of slots are limited and will strictly be on a first come first serve basis. One slot per school will be assigned\, time permitting a school may get additional slots if requested so.\n\nRegister here
URL:https://shirdisaiparivaar.org/event/gp-signup-performing-cultural-activities-at-ssp/
CATEGORIES:SSP Event
END:VEVENT
BEGIN:VEVENT
DTSTART;TZID=America/Los_Angeles:20240728T160000
DTEND;TZID=America/Los_Angeles:20240728T183000
DTSTAMP:20260420T210548
CREATED:20240721T185828Z
LAST-MODIFIED:20240724T182618Z
UID:24457-1722182400-1722191400@shirdisaiparivaar.org
SUMMARY:Discourse On Sri Shirdi by Sri Pawar Kakaji
DESCRIPTION:Shirdi Sai Parivaar would like to invite you and your family to participate in Discourse On Sri Shirdi Sai by Sri Pawar Kaka Ji at Shirdi Sai Parivaar MR room on July 28th Sunday from 4 pm – 6:25 pm. Please sign up for the event below \n\n                \n                        \n                            Sri Pawar Kakaji event signup - July 2024\n                            Signup request for Sri Pawar Kakaji event signup - July 28\, 2024 \n                        \n                        Name*\n                            \n                            \n                                                    \n                                                    First\n                                                \n                            \n                            \n                                                    \n                                                    Last\n                                                \n                            \n                        Email*\n                            \n                        Phone*Word VerificationCommentsThis field is for validation purposes and should be left unchanged.\n          \n            \n            \n            \n            \n            \n            \n            \n            \n            \n        \n                        Δ
URL:https://shirdisaiparivaar.org/event/discourse-on-sri-shirdi-by-sri-pawar-kakaji/
CATEGORIES:SSP Event
END:VEVENT
END:VCALENDAR