BEGIN:VCALENDAR
VERSION:2.0
PRODID:-//Shirdi Sai Parivaar - ECPv6.15.17.1//NONSGML v1.0//EN
CALSCALE:GREGORIAN
METHOD:PUBLISH
X-ORIGINAL-URL:https://shirdisaiparivaar.org
X-WR-CALDESC:Events for Shirdi Sai Parivaar
REFRESH-INTERVAL;VALUE=DURATION:PT1H
X-Robots-Tag:noindex
X-PUBLISHED-TTL:PT1H
BEGIN:VTIMEZONE
TZID:America/Los_Angeles
BEGIN:DAYLIGHT
TZOFFSETFROM:-0800
TZOFFSETTO:-0700
TZNAME:PDT
DTSTART:20220313T100000
END:DAYLIGHT
BEGIN:STANDARD
TZOFFSETFROM:-0700
TZOFFSETTO:-0800
TZNAME:PST
DTSTART:20221106T090000
END:STANDARD
BEGIN:DAYLIGHT
TZOFFSETFROM:-0800
TZOFFSETTO:-0700
TZNAME:PDT
DTSTART:20230312T100000
END:DAYLIGHT
BEGIN:STANDARD
TZOFFSETFROM:-0700
TZOFFSETTO:-0800
TZNAME:PST
DTSTART:20231105T090000
END:STANDARD
BEGIN:DAYLIGHT
TZOFFSETFROM:-0800
TZOFFSETTO:-0700
TZNAME:PDT
DTSTART:20240310T100000
END:DAYLIGHT
BEGIN:STANDARD
TZOFFSETFROM:-0700
TZOFFSETTO:-0800
TZNAME:PST
DTSTART:20241103T090000
END:STANDARD
BEGIN:DAYLIGHT
TZOFFSETFROM:-0800
TZOFFSETTO:-0700
TZNAME:PDT
DTSTART:20250309T100000
END:DAYLIGHT
BEGIN:STANDARD
TZOFFSETFROM:-0700
TZOFFSETTO:-0800
TZNAME:PST
DTSTART:20251102T090000
END:STANDARD
END:VTIMEZONE
BEGIN:VEVENT
DTSTART;TZID=America/Los_Angeles:20230615T093000
DTEND;TZID=America/Los_Angeles:20241231T140000
DTSTAMP:20260420T065114
CREATED:20230124T092143Z
LAST-MODIFIED:20250306T052313Z
UID:23507-1686821400-1735653600@shirdisaiparivaar.org
SUMMARY:SSP - Special Program for Seniors
DESCRIPTION:Sairam Saibandhu’s\,\n\n\nWith Sainath’s bountiful blessings\, the fourteen week pilot of the Senior program was a huge success and very well received amongst our Saibandhus. Hence Shirdi Sai Parivaar is indefinitely continuing this long term SSP visionary program. \nThe program will be on  Every Thursday from 9:30 AM to 2:00 PM. The program is initially designed for 14 weeks and based on the participant’s engagement and feedback may be improved and extended on a permanent basis. \nThis Program has been designed to create a wholesome experience with activities specifically designed for seniors and also provide volunteering opportunities for willing seniors. Moreover\, an unlimited volunteering opportunity to all! \nThe agenda of the program will facilitate spiritual wellness and a social engagement with simple activities where seniors above 58 years\, will be able to participate and contribute. \n\n\n\n \n\n\n\nAgenda of the program is as follows: \n\n\n\n\n\n\n\n\n\nDay \n\n\n Every Thursday \n\n\n\n\nProgram \n\nSpecial Program for Seniors\n\n\n\n9:30 AM to 10:00 AM \n\n\nCheck in (Tea/Coffee/Snack provided) \n\n\n\n\n10:00 AM to 10:15 AM \n\n\nPrayer & Agenda Review \n\n\n\n\n10:15 AM to 11:00 AM \n\n\nBhajans/SaiMahima/Stavanmanjari/ Sai naamavali /Sai Amritvani learning \n\n\n\n\n11:00 AM to 12:00 Noon \n\n\nYoga by Dr. Sachin and Wellness talk \n\n\n\n\n12:00 Noon \n\n\nMadhyan Aarti \n\n\n\n\n12:30 PM to 1:00 PM \n\n\nLunch \n\n\n\n\n1:00 PM to 2:00 PM \n\n\nGames/Fun Activities/Crafts (Group Activity) \n\n\n\n\n\n\nProgram will be conducted by our dedicated volunteers\, professional wellness champions\, health heroes and social workers. \nLike every service at SSP\, this program is offered at FREE of cost for our seniors.  Your donations and volunteering time make this possible. \nWe invite and look forward to all our Saibandhus to come and register and take advantage of this unique program. \nYour feedback is important to us\, to design & enrich this program in the long run. Kindly share your thoughts & comments @Saibandhu@shirdisaiparivaar.org. \nPlease Sign up to be part of SSP – Special Program for Seniors.
URL:https://shirdisaiparivaar.org/event/ssp-special-program-for-seniors/
END:VEVENT
BEGIN:VEVENT
DTSTART;TZID=America/Los_Angeles:20230914T080000
DTEND;TZID=America/Los_Angeles:20231019T170000
DTSTAMP:20260420T065114
CREATED:20230914T211149Z
LAST-MODIFIED:20230915T070558Z
UID:24013-1694678400-1697734800@shirdisaiparivaar.org
SUMMARY:SSP Fundraising for Morocco Earthquake
DESCRIPTION:We hope that by Baba’s grace you are all staying safe and healthy. \nMorocco Earthquake killing more than 20\,000 people and injuring thousands more. People are trapped and homes\, businesses\, and critical infrastructure have been destroyed under layers of rubble. SSP is organizing a fundraising drive to help them. Your donation to the Morocco Earthquake Relief Fund will provide emergency relief and recovery efforts Morocco. SSP organization will add $3000 on top of amount collected from donors.  \n Donation Link \nHow it works in 2 easy steps:\n1. Please fill out the google form first before making donation to provide cause for your donation.\n2. Please donate your Tax-deductible contributions using link Donation\n3. Alternatively you can also donate directly via PayPal using Email: saibandhu@shirdisaiparivaar.org  with a memo stating the cause of the donation. \nPlease reach out to us if you have suggestions and if you know any organizations that need help. \nWe would like to thank you for your generous support. Please let us know if you have any questions or feedback\, you can contact us @ (408) 909-1221 or email:    saibandhu@shirdisaiparivaar.org \n \nBOW TO SHRI SAI AND PEACE BE TO ALL \n[/fusion_builder_column][/fusion_builder_row][/fusion_builder_container]
URL:https://shirdisaiparivaar.org/event/ssp-fundraising-for-morocco-earthquake/
CATEGORIES:Community,SSP Event
END:VEVENT
BEGIN:VEVENT
DTSTART;TZID=America/Los_Angeles:20230915T200000
DTEND;TZID=America/Los_Angeles:20230929T220000
DTSTAMP:20260420T065114
CREATED:20200907T151243Z
LAST-MODIFIED:20230907T071833Z
UID:21934-1694808000-1696024800@shirdisaiparivaar.org
SUMMARY:SSP Classes 2023 - 2024
DESCRIPTION:Class Schedule 2023-2024\nShirdi Sai Parivaar is pleased to announce the online registration for all community classes for the 2023-2024 calendar year.
URL:https://shirdisaiparivaar.org/event/ssp-classes-2023-2024/
CATEGORIES:SSP Event
END:VEVENT
BEGIN:VEVENT
DTSTART;TZID=America/Los_Angeles:20230916T093000
DTEND;TZID=America/Los_Angeles:20230916T163000
DTSTAMP:20260420T065114
CREATED:20230901T225607Z
LAST-MODIFIED:20230902T055817Z
UID:23930-1694856600-1694881800@shirdisaiparivaar.org
SUMMARY:Shri Ganesha Clay Molding Workshop
DESCRIPTION:SSP Annual Shri Ganesha Clay Molding workshop will be held on-site at Temple on September 16th\, 2023 in Two sessions. \nSession 1: 9:30 AM to 11:30 AM \nSession 2:00 PM to 4:00 PM \nWorkshop for kids to make Lord Ganesha idol using clay. Instructor will help in every step of the way for making Lord Ganesha idol. As a tradition\, idols of Lord Ganesh are worshiped and are immersed in lakes\, rivers or wells. \nIdol making is an art that is passed on from generation to generation. Idols made with natural ingredients are preferred over the painted ones as they are made with artificial clay. Using natural ingredients is also better for the environment. \nIn continuing with our tradition\, Shirdi Sai Parivaar will host “Shri Ganesh Idol Making Workshop” on Saturday\, September 16th 2023 \nSignup for this Workshop Below \nImportant Note: The event will start on time at 9:30 AM. \nPlease join 15 mins early. \nDate:  Saturday\, September 16th 2023 \nSession 1 : 9.30 AM – 11:30 AM \nSession 2 : 2.00 PM – 4:30 PM \nInstructions for participation: The Children above 6 years are welcome to join the workshop to create their own Lord Ganesh idol with natural clay. Instructor and volunteers will help with each step of the activity.  Please use our website (www.shirdisaiparivaar.org) to register for the event. The event will start on time; it will be difficult to catch up if you are late. Parent will be allowed to sit with kids 10yrs and younger.
URL:https://shirdisaiparivaar.org/event/ganesha-clay-molding-workshop/
LOCATION:SSP\, 1221 California Circle\, Milpitas\, CA\, United States
CATEGORIES:Community,SSP Event
ATTACH;FMTTYPE=image/jpeg:https://shirdisaiparivaar.org/drupal/uploads/2014/08/Lord_Ganesh_Workshop-4.jpg
END:VEVENT
END:VCALENDAR