BEGIN:VCALENDAR
VERSION:2.0
PRODID:-//Shirdi Sai Parivaar - ECPv6.15.17.1//NONSGML v1.0//EN
CALSCALE:GREGORIAN
METHOD:PUBLISH
X-ORIGINAL-URL:https://shirdisaiparivaar.org
X-WR-CALDESC:Events for Shirdi Sai Parivaar
REFRESH-INTERVAL;VALUE=DURATION:PT1H
X-Robots-Tag:noindex
X-PUBLISHED-TTL:PT1H
BEGIN:VTIMEZONE
TZID:America/Los_Angeles
BEGIN:DAYLIGHT
TZOFFSETFROM:-0800
TZOFFSETTO:-0700
TZNAME:PDT
DTSTART:20220313T100000
END:DAYLIGHT
BEGIN:STANDARD
TZOFFSETFROM:-0700
TZOFFSETTO:-0800
TZNAME:PST
DTSTART:20221106T090000
END:STANDARD
BEGIN:DAYLIGHT
TZOFFSETFROM:-0800
TZOFFSETTO:-0700
TZNAME:PDT
DTSTART:20230312T100000
END:DAYLIGHT
BEGIN:STANDARD
TZOFFSETFROM:-0700
TZOFFSETTO:-0800
TZNAME:PST
DTSTART:20231105T090000
END:STANDARD
BEGIN:DAYLIGHT
TZOFFSETFROM:-0800
TZOFFSETTO:-0700
TZNAME:PDT
DTSTART:20240310T100000
END:DAYLIGHT
BEGIN:STANDARD
TZOFFSETFROM:-0700
TZOFFSETTO:-0800
TZNAME:PST
DTSTART:20241103T090000
END:STANDARD
END:VTIMEZONE
BEGIN:VEVENT
DTSTART;TZID=America/Los_Angeles:20230323T160000
DTEND;TZID=America/Los_Angeles:20230323T210000
DTSTAMP:20260420T130053
CREATED:20230309T052053Z
LAST-MODIFIED:20230310T213147Z
UID:23308-1679587200-1679605200@shirdisaiparivaar.org
SUMMARY:SSP COVID Vaccination Drive
DESCRIPTION:With Sai Baba’s grace\, SSP is organizing a free COVID & FLU vaccination drive in our temple on Thursday\,  March 23rd\, 2023 between 4PM TO 9PM. Devotee age of 5 years and above are welcome to walk-in. Devotees are requested to bring the insurance card or devotee/ visitors without insurance are also welcomed to receive it for free. \n \n  \n  \n \nBOW TO SHRI SAI AND PEACE BE TO ALL
URL:https://shirdisaiparivaar.org/event/ssp-covid-vaccination-drive/
END:VEVENT
BEGIN:VEVENT
DTSTART;TZID=America/Los_Angeles:20230329T190000
DTEND;TZID=America/Los_Angeles:20230330T213000
DTSTAMP:20260420T130053
CREATED:20230223T024725Z
LAST-MODIFIED:20230312T012457Z
UID:23541-1680116400-1680211800@shirdisaiparivaar.org
SUMMARY:Sri Rama Navami Celebrations 2023
DESCRIPTION:“Shirdi Sai Parivaar invites all for Sri Rama Navami celebrations on Wednesday\, March 29th 2023 and Thursday\, March 30th 2023”\nSri Ramanavami Celebrations start at 7.00pm on March 29th\, 2023 and will continue until Shej Aarti at 9.15pm on March 30th\, 2023. Shirdi Sai Parivaar would like to invite all devotees to be part of this year’s Sri Ramanavami 2023 celebrations and seek HIS blessings. \nAlso SSP Sri Rama Navami Cultural Event on Saturday Apr 8th\, 2023 from 2:00 pm to 4:00 pm. \n \nPlease signup using the following link for different programs scheduled on two days: Sign up link \n  \nBOW TO SHRI SAI AND PEACE BE TO ALL
URL:https://shirdisaiparivaar.org/event/sri-rama-navami-celebrations-2023/
END:VEVENT
END:VCALENDAR