BEGIN:VCALENDAR
VERSION:2.0
PRODID:-//Shirdi Sai Parivaar - ECPv6.15.17.1//NONSGML v1.0//EN
CALSCALE:GREGORIAN
METHOD:PUBLISH
X-ORIGINAL-URL:https://shirdisaiparivaar.org
X-WR-CALDESC:Events for Shirdi Sai Parivaar
REFRESH-INTERVAL;VALUE=DURATION:PT1H
X-Robots-Tag:noindex
X-PUBLISHED-TTL:PT1H
BEGIN:VTIMEZONE
TZID:America/Los_Angeles
BEGIN:DAYLIGHT
TZOFFSETFROM:-0800
TZOFFSETTO:-0700
TZNAME:PDT
DTSTART:20210314T100000
END:DAYLIGHT
BEGIN:STANDARD
TZOFFSETFROM:-0700
TZOFFSETTO:-0800
TZNAME:PST
DTSTART:20211107T090000
END:STANDARD
BEGIN:DAYLIGHT
TZOFFSETFROM:-0800
TZOFFSETTO:-0700
TZNAME:PDT
DTSTART:20220313T100000
END:DAYLIGHT
BEGIN:STANDARD
TZOFFSETFROM:-0700
TZOFFSETTO:-0800
TZNAME:PST
DTSTART:20221106T090000
END:STANDARD
BEGIN:DAYLIGHT
TZOFFSETFROM:-0800
TZOFFSETTO:-0700
TZNAME:PDT
DTSTART:20230312T100000
END:DAYLIGHT
BEGIN:STANDARD
TZOFFSETFROM:-0700
TZOFFSETTO:-0800
TZNAME:PST
DTSTART:20231105T090000
END:STANDARD
END:VTIMEZONE
BEGIN:VEVENT
DTSTART;TZID=America/Los_Angeles:20221002T080000
DTEND;TZID=America/Los_Angeles:20221004T210000
DTSTAMP:20260420T192908
CREATED:20200921T051026Z
LAST-MODIFIED:20221003T012325Z
UID:22058-1664697600-1664917200@shirdisaiparivaar.org
SUMMARY:Mahasamadhi Commemorations & Vijaya Dasami
DESCRIPTION:“Shirdi Sai Parivaar Commemorates Mahasamadhi on Sunday\, October 2nd 2022 and Tuesday\, October 4th\, 2022”\n  \nSaiBaba Mahasamadhi Commemorations starts at 8.00am on Sunday\, October 2nd 2022 and will continue until Shej Aarti at 9:00pm on October 4th\, 2022. Shirdi Sai Parivaar would like to invite all devotees to be part of this year’s Mahasamadhi 2022 Commemorations & Vijaya Dasami and seek HIS blessings. \n \n  \nShirdi Sai Parivaar will be hosting 12 hours Akhand Bhajans as part of Mahasamadhi Commemorations 2022. \nPlease sign up to participate in the 12 hours Akhand Bhajans using link provided below:\n\n \n12 Hours Akhand Bhajans Link \nBOW TO SHRI SAI AND PEACE BE TO ALL
URL:https://shirdisaiparivaar.org/event/mahasamadhicommemorations/
CATEGORIES:SSP Event
END:VEVENT
BEGIN:VEVENT
DTSTART;TZID=America/Los_Angeles:20221008T083000
DTEND;TZID=America/Los_Angeles:20221008T103000
DTSTAMP:20260420T192908
CREATED:20221002T235908Z
LAST-MODIFIED:20221004T063025Z
UID:23344-1665217800-1665225000@shirdisaiparivaar.org
SUMMARY:SSP Samapran Meditation workshop
DESCRIPTION:Sairam Devotees\,\nSSP is hosting “Samapran Meditation” workshop in collaboration with “samarpanmeditationusa“on Oct 8\, 2022 at 8:30 AM.\n\nSamarpan Meditation is not a technique or method of meditation; rather it is Sanskara (Spiritual Values) that gets instilled in the practitioners. Unlike other meditation methods\, this path does not involve any kind of Asanas (physical activities)\, fasting\, Kriya (complex techniques) or commercial transactions. It is not just a path of intellectual information (knowledge) that leads to Agnya (Third Eye) Chakra; rather it is a path of Anubhooti (spiritual experience) that helps one to reach to the Sahastrar (Crown) Chakra and then progress up to the Samadhi (transcendental state). Samarpan means ‘to totally and unconditionally surrender one’s ego’ or letting go of one’s past or future thoughts\, anxiety\, negativity\, etc. When a practitioner completely surrenders himself to the divine energy of a Guru\, all the knowledge\, wisdom and values of the Guru gets automatically transferred to him. Meditation is living in the present moment following the inner voice (intuition or Dharma). Thus\, Samarpan Meditation makes one’s Soul their own Guru. \n\nSamarpan Meditation was brought from the Himalayas into the society by Shree Shivkrupanand Swami\, an enlightened yogi living in India. Swamiji’s energies and aura have been scientifically researched and tested. In Swamiji’s vision “the world is one family”\, and He aims to awaken every soul through Samarpan Meditation and raise the collective consciousness across the world as one human family. Samarpan Meditation is offered for FREE to everyone equally irrespective of race\, religion\, color\, caste\, language\, gender\, lifestyle\, or nationality. Today\, over 3 million people are associated with Samarpan Meditation in over 65 countries around the world. You can find more information about Swamiji and Samarpan Meditation on this video – https://www.youtube.com/watch?v=pnl51y8wA5w  and Click Here\n\n\n\nRegistration Link\n\n\n\n\n\nhttps://forms.office.com/pages/responsepage.aspx?id=EXJC9aJN2ESPF3AFFstZ_Spm4GuLLlRJmIuVBQiVNhJUMVUwSDJXRjc5NzBMWFpLODA3NUJaMUdZTC4u\n\n\n\nBOW TO SHRI SAI AND PEACE BE TO ALL
URL:https://shirdisaiparivaar.org/event/samapran-meditation/
END:VEVENT
END:VCALENDAR