BEGIN:VCALENDAR
VERSION:2.0
PRODID:-//Shirdi Sai Parivaar - ECPv6.15.17.1//NONSGML v1.0//EN
CALSCALE:GREGORIAN
METHOD:PUBLISH
X-WR-CALNAME:Shirdi Sai Parivaar
X-ORIGINAL-URL:https://shirdisaiparivaar.org
X-WR-CALDESC:Events for Shirdi Sai Parivaar
REFRESH-INTERVAL;VALUE=DURATION:PT1H
X-Robots-Tag:noindex
X-PUBLISHED-TTL:PT1H
BEGIN:VTIMEZONE
TZID:America/Los_Angeles
BEGIN:DAYLIGHT
TZOFFSETFROM:-0800
TZOFFSETTO:-0700
TZNAME:PDT
DTSTART:20200308T100000
END:DAYLIGHT
BEGIN:STANDARD
TZOFFSETFROM:-0700
TZOFFSETTO:-0800
TZNAME:PST
DTSTART:20201101T090000
END:STANDARD
BEGIN:DAYLIGHT
TZOFFSETFROM:-0800
TZOFFSETTO:-0700
TZNAME:PDT
DTSTART:20210314T100000
END:DAYLIGHT
BEGIN:STANDARD
TZOFFSETFROM:-0700
TZOFFSETTO:-0800
TZNAME:PST
DTSTART:20211107T090000
END:STANDARD
BEGIN:DAYLIGHT
TZOFFSETFROM:-0800
TZOFFSETTO:-0700
TZNAME:PDT
DTSTART:20220313T100000
END:DAYLIGHT
BEGIN:STANDARD
TZOFFSETFROM:-0700
TZOFFSETTO:-0800
TZNAME:PST
DTSTART:20221106T090000
END:STANDARD
END:VTIMEZONE
BEGIN:VEVENT
DTSTART;TZID=America/Los_Angeles:20211219T000000
DTEND;TZID=America/Los_Angeles:20211219T170000
DTSTAMP:20260421T103352
CREATED:20211219T073343Z
LAST-MODIFIED:20211219T204659Z
UID:22919-1639872000-1639933200@shirdisaiparivaar.org
SUMMARY:SSP Volunteering Opportunities Registration
DESCRIPTION:“Have faith and patience. Then I will be always with you wherever you are.” – Sai Baba\nSaiRam Saibandhus\,\n\nSSP is a 100% volunteer based organization\, where volunteers manage all activities. There are no salaried employees. Below are the areas where devotees interested in helping can volunteer.\n\n\n\n\n\n\n  \n\n                \n                        \n                            SSP Volunteering Opportunities Registration\n                            SSP Volunteering Opportunities Registration \n                        \n                        Name*\n                            \n                            \n                                                    \n                                                    First\n                                                \n                            \n                            \n                                                    \n                                                    Last\n                                                \n                            \n                        Email-id*\n                            \n                        Phone Number*Volunteering Opportunities*\n								\n								Operations\n							\n								\n								Front Desk Service\n							\n								\n								Kitchen/Dining hall – Preparing/serving Prasadam and cleaning on Thursdays\, Weekends and\, special occasions\n							\n								\n								Seva Day\n							\n								\n								Others\n							Comments Word VerificationNameThis field is for validation purposes and should be left unchanged.\n          \n            \n            \n            \n            \n            \n            \n            \n            \n            \n        \n                        Δ \n                        \n\n  \n  \nBOW TO SHRI SAI AND PEACE BE TO ALL
URL:https://shirdisaiparivaar.org/event/ssp-volunteering-registration/
END:VEVENT
BEGIN:VEVENT
DTSTART;TZID=America/Los_Angeles:20211219T000000
DTEND;TZID=America/Los_Angeles:20211219T170000
DTSTAMP:20260421T103352
CREATED:20211219T074844Z
LAST-MODIFIED:20211219T204823Z
UID:22928-1639872000-1639933200@shirdisaiparivaar.org
SUMMARY:SSP Youth Volunteering Registration
DESCRIPTION:“Have faith and patience. Then I will be always with you wherever you are.” – Sai Baba\nSaiRam Saibandhus\,\n\nSSP is a 100% volunteer based organization\, where volunteers manage all activities. There are no salaried employees. Below are the areas where devotees interested in helping can volunteer.\n\n\n\n\n\n\n  \n\n                \n                        \n                            SSP Youth Volunteering Opportunities Registration\n                            SSP Volunteering Opportunities Registration (Ages 15 - 24 years) \n                        \n                        Name*\n                            \n                            \n                                                    \n                                                    First\n                                                \n                            \n                            \n                                                    \n                                                    Last\n                                                \n                            \n                        Age* Contact Email-id*\n                            \n                        Contact Phone Number*Volunteering Opportunities*\n								\n								Preparing Sandwiches for homeless shelters\n							\n								\n								Front Desk Service\n							\n								\n								Prasadam Distribution\n							\n								\n								Seva Day\n							\n								\n								Others\n							Comments Word VerificationPhoneThis field is for validation purposes and should be left unchanged.\n          \n            \n            \n            \n            \n            \n            \n            \n            \n            \n        \n                        Δ \n                        \n\n  \n  \nBOW TO SHRI SAI AND PEACE BE TO ALL
URL:https://shirdisaiparivaar.org/event/youth-volunteering-registration/
END:VEVENT
END:VCALENDAR