BEGIN:VCALENDAR
VERSION:2.0
PRODID:-//Shirdi Sai Parivaar - ECPv6.15.17.1//NONSGML v1.0//EN
CALSCALE:GREGORIAN
METHOD:PUBLISH
X-WR-CALNAME:Shirdi Sai Parivaar
X-ORIGINAL-URL:https://shirdisaiparivaar.org
X-WR-CALDESC:Events for Shirdi Sai Parivaar
REFRESH-INTERVAL;VALUE=DURATION:PT1H
X-Robots-Tag:noindex
X-PUBLISHED-TTL:PT1H
BEGIN:VTIMEZONE
TZID:America/Los_Angeles
BEGIN:DAYLIGHT
TZOFFSETFROM:-0800
TZOFFSETTO:-0700
TZNAME:PDT
DTSTART:20210314T100000
END:DAYLIGHT
BEGIN:STANDARD
TZOFFSETFROM:-0700
TZOFFSETTO:-0800
TZNAME:PST
DTSTART:20211107T090000
END:STANDARD
BEGIN:DAYLIGHT
TZOFFSETFROM:-0800
TZOFFSETTO:-0700
TZNAME:PDT
DTSTART:20220313T100000
END:DAYLIGHT
BEGIN:STANDARD
TZOFFSETFROM:-0700
TZOFFSETTO:-0800
TZNAME:PST
DTSTART:20221106T090000
END:STANDARD
BEGIN:DAYLIGHT
TZOFFSETFROM:-0800
TZOFFSETTO:-0700
TZNAME:PDT
DTSTART:20230312T100000
END:DAYLIGHT
BEGIN:STANDARD
TZOFFSETFROM:-0700
TZOFFSETTO:-0800
TZNAME:PST
DTSTART:20231105T090000
END:STANDARD
END:VTIMEZONE
BEGIN:VEVENT
DTSTART;VALUE=DATE:20220601
DTEND;VALUE=DATE:20220801
DTSTAMP:20260420T080405
CREATED:20220526T060757Z
LAST-MODIFIED:20220604T184058Z
UID:23107-1654041600-1659311999@shirdisaiparivaar.org
SUMMARY:SSP Backpack Drive 2022
DESCRIPTION:If you look to me\, I look to you! – Sai Baba\n \n\n“Shirdi Sai Parivaar is Collecting backpacks for schools!”\nCollect supplies for schools! \nYou can help children in school by giving them with backpacks and the tools they need to succeed. By providing school supplies\, you are supporting students\, teachers and your local schools. Please donate generously. \nList of suggested supplies \n\nPaper: lined paper\, copy paper\, construction paper\, spiral notebooks\, composition books\, index cards\nPencils & Pens: blue or black pens\, #2 pencils\, colored pencils\, erasers\, pencil sharpener\, pencil case\, colored markers\, crayons\, highlighters\, dry-erase markers\nGeneral Supplies: dry-erase boards\, paper clips\, 3-ring 2″ binders\, pocket folders\, report covers\nClassroom staples: stapler\, staples\, rulers\, protractors\, glue sticks\, scissors\, tape\, calculator\nBackpack\n\nPlease drop new unused backpacks into the designated collection bins kept at the entrance of Shirdi Sai Parivaar\, from June 1st to 31st July 2022. \n 
URL:https://shirdisaiparivaar.org/event/ssp-backpack-drive-2022/
CATEGORIES:Community,Outreach,SSP Event
END:VEVENT
END:VCALENDAR